BEGIN:VCALENDAR
VERSION:2.0
PRODID:-//STC-ACHE - ECPv4.6.15//NONSGML v1.0//EN
CALSCALE:GREGORIAN
METHOD:PUBLISH
X-WR-CALNAME:STC-ACHE
X-ORIGINAL-URL:http://stc.ache.org
X-WR-CALDESC:Events for STC-ACHE
BEGIN:VEVENT
DTSTART;TZID=UTC-6:20170804T120000
DTEND;TZID=UTC-6:20170804T130000
DTSTAMP:20260425T192647
CREATED:20170722T020617Z
LAST-MODIFIED:20170722T020646Z
UID:368-1501848000-1501851600@stc.ache.org
SUMMARY:Board of Governors' (BOG) Exam Review- intro session
DESCRIPTION:This informational session will walk you through the steps to become an ACHE fellow and to provide you with the details of an upcoming 10 week study course that will give you the knowledge base to become a fellow by the end of 2017. \nRegister for this FREE intro session on our Eventbrite site! \n
URL:http://stc.ache.org/event/board-of-governors-bog-exam-review-intro-session/
END:VEVENT
END:VCALENDAR