BEGIN:VCALENDAR
VERSION:2.0
PRODID:-//STC-ACHE - ECPv4.6.15//NONSGML v1.0//EN
CALSCALE:GREGORIAN
METHOD:PUBLISH
X-WR-CALNAME:STC-ACHE
X-ORIGINAL-URL:http://stc.ache.org
X-WR-CALDESC:Events for STC-ACHE
BEGIN:VEVENT
DTSTART;TZID=UTC-6:20180105T120000
DTEND;TZID=UTC-6:20180105T130000
DTSTAMP:20260425T221610
CREATED:20171211T020417Z
LAST-MODIFIED:20171211T051634Z
UID:532-1515153600-1515157200@stc.ache.org
SUMMARY:Board of Governors' (BOG) Exam / Fellow Advancement Review Course
DESCRIPTION:Become board certified and maximize your professional potential by earning the premier credential in healthcare management\, the ACHE’s prestigious FACHE credential. Becoming board certified in healthcare management as an ACHE Fellow (FACHE) means you will have the knowledge\, skills and confidence to succeed. \nThis is a 10 week series with a final capstone 1 day seminar (The class will be on March 16) led by Dr. Nowicki\, to be held at Trinity University. \n10 week online review\nThis course is starting January 5 and will be on Fridays from 12-1 p.m. The course will be completed on March 9. \nThis informational session will walk you through the steps to become an ACHE fellow and to provide you with the details of an upcoming 10 week study course that will give you the knowledge base to become a fellow by the end of 2018. The 10 week course will begin the following Friday\, January 5 and continue for 10 consecutive weeks from 12 p.m. to 1 p.m. \nParticipating in ACHE’s Exam Review Course is one of the best ways to gain the confidence and knowledge you need to successfully pass the Board of Governors Exam. Faculty experts provide in-depth information on the 10 key knowledge areas covered on the Exam in this one day program. \nDr Nowicki’s class all day review course at Trinity University (lunch included). The class will be on March 16. Just in time to take your test at the meeting in Chicago. \nPlease Note: Registration is a commitment to participate. The 10 week review session has a maximum of 35 slots. \nCOSTS\n10-week session only: $100 \n10-week session + 1 Day Capstone: $120 \n1 Day Capstone review class only: $75 \nNO REFUNDS WILL BE GRANTED \nFOR MORE INFORMATION\, PLEASE CONTACT: \nAngela Jaco – ajaco@hamlinhealth.org \nDr. Brad Beauvais – bbeauvai@trinity.edu \n
URL:http://stc.ache.org/event/board-of-governors-bog-exam-fellow-advancement-review-course/
CATEGORIES:Education
END:VEVENT
END:VCALENDAR