BEGIN:VCALENDAR
VERSION:2.0
PRODID:-//STC-ACHE - ECPv4.6.15//NONSGML v1.0//EN
CALSCALE:GREGORIAN
METHOD:PUBLISH
X-WR-CALNAME:STC-ACHE
X-ORIGINAL-URL:http://stc.ache.org
X-WR-CALDESC:Events for STC-ACHE
BEGIN:VEVENT
DTSTART;TZID=UTC-6:20210501T130000
DTEND;TZID=UTC-6:20210501T150000
DTSTAMP:20260425T103104
CREATED:20210314T191000Z
LAST-MODIFIED:20210422T235617Z
UID:1490-1619874000-1619881200@stc.ache.org
SUMMARY:FREE: Advancement Session\, Sections 1-3 Review
DESCRIPTION:Register now for our upcoming virtual ACHE Board of Governors’ Exam (FACHE) Prep series! \nThis session will cover: Advancement Sections 1-3 Review \nBOG Healthcare\, Mgmt/Leadership & Finance \n1pm-105pm: Welcome & Introductions \n105pm-110pm: Review of the criteria to advance to Fellow \n110pm-140pm: BOG Knowledge Area Review – Healthcare \n140pm-210pm: BOG Knowledge Area Review – Management and Leadership \n210pm-220pm: Break \n220pm-250pm: BOG Knowledge Area Review – Finance \n250pm-300pm: Q & A \nThis series starts May 1st and continues for four Saturdays from 1 – 3pm through Section 10.  Register today! \n
URL:http://stc.ache.org/event/advancement-section-1-3-review/
CATEGORIES:Education,Employment / Career
ORGANIZER;CN="STC-ACHE":MAILTO:stc@achechapter.org
END:VEVENT
END:VCALENDAR