BEGIN:VCALENDAR
VERSION:2.0
PRODID:-//STC-ACHE - ECPv4.6.15//NONSGML v1.0//EN
CALSCALE:GREGORIAN
METHOD:PUBLISH
X-WR-CALNAME:STC-ACHE
X-ORIGINAL-URL:http://stc.ache.org
X-WR-CALDESC:Events for STC-ACHE
BEGIN:VEVENT
DTSTART;TZID=UTC-6:20200213T070000
DTEND;TZID=UTC-6:20200213T080000
DTSTAMP:20260425T133031
CREATED:20191209T043045Z
LAST-MODIFIED:20191209T044152Z
UID:1203-1581577200-1581580800@stc.ache.org
SUMMARY:ACHE Breakfast at the 2020 THA Annual Conference
DESCRIPTION:For attendees of the Texas Hospital Association’s annual conference\, we invite you to attend the Horace Cardwell ACHE Affiliates Breakfast from 7-8 a.m at the JW Marriott San Antonio Hill Country Resort and Spa.  \nThe speaker for this event will be Heather Rohan\, FACHE\, Chair of the American College of Healthcare Executives.\nPlease note: this event has a separate registration fee and is not included in your THA conference registration. \nTo register or to learn more\, please visit the ACHE Events portion of the THA conference or contact the Programs Director of the South Texas Chapter of ACHE\, Brian Turner\, FACHE\, at stc.ache.programs@gmail.com \nWe hope to see you there! \n
URL:http://stc.ache.org/event/ache-breakfast-at-the-2020-tha-annual-conference/
CATEGORIES:Meetings
END:VEVENT
END:VCALENDAR