BEGIN:VCALENDAR
VERSION:2.0
PRODID:-//STC-ACHE - ECPv4.6.15//NONSGML v1.0//EN
CALSCALE:GREGORIAN
METHOD:PUBLISH
X-WR-CALNAME:STC-ACHE
X-ORIGINAL-URL:http://stc.ache.org
X-WR-CALDESC:Events for STC-ACHE
BEGIN:VEVENT
DTSTART;TZID=UTC-6:20180505T133000
DTEND;TZID=UTC-6:20180505T160000
DTSTAMP:20260425T175418
CREATED:20180315T104657Z
LAST-MODIFIED:20180315T105303Z
UID:682-1525527000-1525536000@stc.ache.org
SUMMARY:Volunteer Opportunity- San Antonio Food Bank
DESCRIPTION:Come volunteer with the STC-ACHE and the San Antonio Food Bank!\nWe are looking for 20 volunteers (ages 12+ are welcome!) that can meet the criterion below: \nMust be able to lift/move up to 25 pounds \nMust be able to work in a warehouse\, including sorting and/or packing — Must bring your own gloves \nMay be asked to work in a cooler– recommend you bring your jacket\, just in case! \nMUST HAVE CLOSED TOE SHOES (no flip flops); Jeans recommended \nIf you can meet the requirements above\, please sign up today to make a difference in our community! \n
URL:http://stc.ache.org/event/682/
CATEGORIES:Volunteer
END:VEVENT
END:VCALENDAR