BEGIN:VCALENDAR
VERSION:2.0
PRODID:-//STC-ACHE - ECPv4.6.15//NONSGML v1.0//EN
CALSCALE:GREGORIAN
METHOD:PUBLISH
X-WR-CALNAME:STC-ACHE
X-ORIGINAL-URL:http://stc.ache.org
X-WR-CALDESC:Events for STC-ACHE
BEGIN:VEVENT
DTSTART;VALUE=DATE:20200501
DTEND;VALUE=DATE:20200502
DTSTAMP:20260425T150252
CREATED:20191209T030727Z
LAST-MODIFIED:20200405T183144Z
UID:1170-1588291200-1588377599@stc.ache.org
SUMMARY:POSTPONED -- 2020 Early Careerist & Student Event
DESCRIPTION:THIS EVENT HAS BEEN POSTPONED DUE TO THE NEED FOR SOCIAL DISTANCING DURING THE PANDEMIC. WE PLAN TO RE-SCHEDULE THIS EVENT LATER IN THE YEAR. PLEASE SEE OUR WEBSITE OR SOCIAL MEDIA FOR UPDATES\, AND STAY SAFE.\nJoin us for an event geared towards our future leaders: Early Careerists and Students! \nThis event will includes headshots and resume review\, as well as a qualified educational opportunity on Strategically Mapping Your Early Career Development. \nLocation will be at the UIW Student Engagement Center. \nAdditional details will be coming soon! Check back for updates! \n
URL:http://stc.ache.org/event/2020-early-careerist-student-event-save-the-date/
CATEGORIES:Education
END:VEVENT
END:VCALENDAR