BEGIN:VCALENDAR
VERSION:2.0
PRODID:-//STC-ACHE - ECPv4.6.15//NONSGML v1.0//EN
CALSCALE:GREGORIAN
METHOD:PUBLISH
X-WR-CALNAME:STC-ACHE
X-ORIGINAL-URL:http://stc.ache.org
X-WR-CALDESC:Events for STC-ACHE
BEGIN:VEVENT
DTSTART;VALUE=DATE:20190322
DTEND;VALUE=DATE:20190323
DTSTAMP:20260425T175826
CREATED:20181209T003949Z
LAST-MODIFIED:20190319T025439Z
UID:881-1553212800-1553299199@stc.ache.org
SUMMARY:2019 Healthcare Landscape
DESCRIPTION:Register today for our South Texas Joint Healthcare Conference\, a collaborative face-to-face event with Healthcare Financial Management Association (HFMA) and the Greater San Antonio Healthcare Foundation. \nThe Healthcare Landscape: The Cost of Care and Price Transparency– Download [228.27 KB]  \n\nTHIS EVENT IS ELIGIBLE FOR CONTINUING EDUCATION! \nACHE members can receive up to 3.0 ACHE Face-to-Face credits & 5.0 Qualified Education credits \nHFMA members can receive up to 8.0 CPE hours \nAttorneys can receive up to 7.5 hours CLE for Texas attorneys \nNurses can receive up to 7.0 contact hours of Continuing Education \n\nFor conference info\, contact Linda Dunahoo at LoneStarPGM@austin.rr.com or 512-926-6504\nFor registration info\, contact Alissa Massie at alissa@demarsemeetings.com or 813-994-0107 x105\n\nPRESENTATIONS FOR THE 2019 HEALTHCARE LANDSCAPE: \nDownload [6.57 MB]  \nDownload [2.28 MB]  \nDownload [3.71 MB]  \n
URL:http://stc.ache.org/event/2019-healthcare-landscape/
LOCATION:6070 Babcock Road\, San Antonio\, 78240
CATEGORIES:Education,Meetings
END:VEVENT
END:VCALENDAR