BEGIN:VCALENDAR
VERSION:2.0
PRODID:-//STC-ACHE - ECPv4.6.15//NONSGML v1.0//EN
CALSCALE:GREGORIAN
METHOD:PUBLISH
X-WR-CALNAME:STC-ACHE
X-ORIGINAL-URL:http://stc.ache.org
X-WR-CALDESC:Events for STC-ACHE
BEGIN:VEVENT
DTSTART;TZID=UTC-6:20160518T080000
DTEND;TZID=UTC-6:20160518T170000
DTSTAMP:20260425T232733
CREATED:20160421T202156Z
LAST-MODIFIED:20160421T202249Z
UID:137-1463558400-1463590800@stc.ache.org
SUMMARY:Advanced Analytics and Insights
DESCRIPTION:Medtronic San Antonio Cluster Flier  \nMedtronic\, an ACHE Premier Corporate Partner\, is committed to healthcare excellence by building meaningful relationships and strategically collaborating to advance healthcare management. We are pleased to invite you to two complimentary speaking events that you won’t want to miss. \nRegister Online now for one or both events: \nmedtronicsolutions.medtronic.com/ache \n
URL:http://stc.ache.org/event/1/
END:VEVENT
END:VCALENDAR